BEGIN:VCALENDAR
VERSION:2.0
PRODID:-//ChamberMaster//Event Calendar 2.0//EN
METHOD:PUBLISH
X-PUBLISHED-TTL:P1H
REFRESH-INTERVAL:P1H
CALSCALE:GREGORIAN
BEGIN:VTIMEZONE
TZID:America/New_York
BEGIN:DAYLIGHT
RRULE:FREQ=YEARLY;BYMONTH=3;BYDAY=2SU
DTSTART:20070101T000000
TZOFFSETFROM:-0500
TZOFFSETTO:-0400
TZNAME:Eastern Daylight Time
END:DAYLIGHT
BEGIN:STANDARD
RRULE:FREQ=YEARLY;BYMONTH=11;BYDAY=1SU
DTSTART:20070101T000000
TZOFFSETFROM:-0400
TZOFFSETTO:-0500
TZNAME:Eastern Standard Time
END:STANDARD
END:VTIMEZONE
BEGIN:VEVENT
DTSTART;TZID=America/New_York:20260604T170000
DTEND;TZID=America/New_York:20260604T190000
X-MICROSOFT-CDO-ALLDAYEVENT:FALSE
SUMMARY:CBICC Member Celebration hosted by Hyatt Place
DESCRIPTION:We're excited to invite you to the CBICC Member Celebration: A Night of Appreciation\, hosted by Hyatt Place!This evening is dedicated to celebrating our valued members and thanking you for your continued support. We'll also recognize those reaching milestone anniversaries 10\, 25\, and 50 years.Enjoy the opportunity to explore the newly renovated Hyatt Place as we come together to celebrate. We look forward to seeing you there!
X-ALT-DESC;FMTTYPE=text/html:<!DOCTYPE html><html><head><title></title></head><body aria-disabled="false"><p data-end="108" data-start="0">We&rsquo\;re excited to invite you to the CBICC Member Celebration: A Night of Appreciation\, hosted by Hyatt Place!</p><p data-end="296" data-start="110">This evening is dedicated to celebrating our valued members and thanking you for your continued support. We&rsquo\;ll also recognize those reaching milestone anniversaries&mdash\;10\, 25\, and 50 years.</p><p data-end="433" data-is-last-node="" data-is-only-node="" data-start="298">Enjoy the opportunity to explore the newly renovated Hyatt Place as we come together to celebrate. We look forward to seeing you there!</p></body></html>
LOCATION:219 West Beaver Avenue State College PA 16801
UID:e.3830.1375550
SEQUENCE:3
DTSTAMP:20260425T111043Z
URL:https://business.cbicc.org/eventcalendarchamberevent/Details/cbicc-member-celebration-hosted-by-hyatt-place-1623802?sourceTypeId=Hub
END:VEVENT
END:VCALENDAR
