BEGIN:VCALENDAR
VERSION:2.0
PRODID:-//ChamberMaster//Event Calendar 2.0//EN
METHOD:PUBLISH
X-PUBLISHED-TTL:P1H
REFRESH-INTERVAL:P1H
CALSCALE:GREGORIAN
BEGIN:VTIMEZONE
TZID:America/New_York
BEGIN:DAYLIGHT
RRULE:FREQ=YEARLY;BYMONTH=3;BYDAY=2SU
DTSTART:20070101T000000
TZOFFSETFROM:-0500
TZOFFSETTO:-0400
TZNAME:Eastern Daylight Time
END:DAYLIGHT
BEGIN:STANDARD
RRULE:FREQ=YEARLY;BYMONTH=11;BYDAY=1SU
DTSTART:20070101T000000
TZOFFSETFROM:-0400
TZOFFSETTO:-0500
TZNAME:Eastern Standard Time
END:STANDARD
END:VTIMEZONE
BEGIN:VEVENT
DTSTART;TZID=America/New_York:20260529T090000
DTEND;TZID=America/New_York:20260529T130000
X-MICROSOFT-CDO-ALLDAYEVENT:FALSE
SUMMARY:CBICC's AI Summit
DESCRIPTION:Join us for the AI Summit\, designed for small businesses\, nonprofits\, and entrepreneurs\, to explore how Artificial Intelligence is transforming the way organizations operate and grow.Hear from industry experts\, gain practical insights\, and participate in focused breakout sessions designed to help you start using AI in your organization right away from grant research to marketing and administrative efficiency.Connect with local leaders and leave with actionable strategies to stay ahead in today's evolving business landscape.PLEASE SELECT ONLY ONE SESSION.
X-ALT-DESC;FMTTYPE=text/html:<!DOCTYPE html><html><head><title></title></head><body aria-disabled="false"><p data-end="191" data-start="0">Join us for the AI Summit\, designed for small businesses\, nonprofits\, and entrepreneurs\, to explore how Artificial Intelligence is transforming the way organizations operate and grow.</p><p data-end="422" data-start="193">Hear from industry experts\, gain practical insights\, and participate in focused breakout sessions designed to help you start using AI in your organization right away&mdash\;from grant research to marketing and administrative efficiency.</p><p data-end="541" data-is-last-node="" data-is-only-node="" data-start="424">Connect with local leaders and leave with actionable strategies to stay ahead in today&rsquo\;s evolving business landscape.</p><p data-end="541" data-is-last-node="" data-is-only-node="" data-start="424"><strong fr-original-style="" style="font-weight: 700\;"><span style="font-size: 24px\;">PLEASE SELECT ONLY ONE SESSION.</span></strong></p></body></html>
LOCATION:215 Innovation Blvd. State College PA 16803
UID:e.3830.1440820
SEQUENCE:3
DTSTAMP:20260425T111014Z
URL:https://business.cbicc.org/eventcalendarchamberevent/Details/cbicc-s-ai-summit-1706022?sourceTypeId=Hub
END:VEVENT
END:VCALENDAR
