BEGIN:VCALENDAR
VERSION:2.0
PRODID:-//ChamberMaster//Event Calendar 2.0//EN
METHOD:PUBLISH
X-PUBLISHED-TTL:P1H
REFRESH-INTERVAL:P1H
CALSCALE:GREGORIAN
BEGIN:VTIMEZONE
TZID:America/New_York
BEGIN:DAYLIGHT
RRULE:FREQ=YEARLY;BYMONTH=3;BYDAY=2SU
DTSTART:20070101T000000
TZOFFSETFROM:-0500
TZOFFSETTO:-0400
TZNAME:Eastern Daylight Time
END:DAYLIGHT
BEGIN:STANDARD
RRULE:FREQ=YEARLY;BYMONTH=11;BYDAY=1SU
DTSTART:20070101T000000
TZOFFSETFROM:-0400
TZOFFSETTO:-0500
TZNAME:Eastern Standard Time
END:STANDARD
END:VTIMEZONE
BEGIN:VEVENT
DTSTART;TZID=America/New_York:20260502T103000
DTEND;TZID=America/New_York:20260502T110000
X-MICROSOFT-CDO-ALLDAYEVENT:FALSE
SUMMARY:Amphibians at Home: Meet Your Hidden Neighbors\, May 02
DESCRIPTION:Join us for "Amphibians at Home" to learn about amphibians in your backyard and beyond from ecologists at Penn State! There will be amphibian-themed crafts\, a place for you to practice your amphibian- spotting skills\, and a chance to meet frogs and salamanders from around the world.Presented by the Bletz Lab.Recommended for ages 3 and up.Registration suggested. Due to space constraints and large program attendance\, strollers may not be able to fit in all programming spaces. Please plan accordingly.Register
X-ALT-DESC;FMTTYPE=text/html:<!DOCTYPE html><html><head><title></title></head><body aria-disabled="false"><div style="box-sizing: border-box\; margin-bottom: 1rem\; width: 682px\; color: rgb(0\, 0\, 0)\; font-family: proxima-nova\, sans-serif\; font-size: 17px\; font-style: normal\; font-variant-ligatures: normal\; font-variant-caps: normal\; font-weight: 400\; letter-spacing: normal\; orphans: 2\; text-align: start\; text-indent: 0px\; text-transform: none\; widows: 2\; word-spacing: 0px\; -webkit-text-stroke-width: 0px\; white-space: normal\; text-decoration-thickness: initial\; text-decoration-style: initial\; text-decoration-color: initial\;"><div style="box-sizing: border-box\;"><p style="box-sizing: border-box\; margin: 0px 0px 1rem\; font-size: 1.0625rem\; line-height: 1.375rem\;">Join us for &ldquo\;Amphibians at Home&rdquo\; to learn about amphibians in your backyard and beyond from ecologists at Penn State! There will be amphibian-themed crafts\, a place for you to practice your amphibian- spotting skills\, and a chance to meet frogs and salamanders from around the world.</p><ul fr-original-style="box-sizing: border-box\; margin: 0px\; padding: 0px\; font-size: 1.0625rem\; line-height: 1.5\; overflow: hidden\;" style="box-sizing: border-box\; margin: 0px\; padding: 0px\; font-size: 1.0625rem\; line-height: 1.5\; overflow: hidden\; list-style-position: inside\;"><li style="box-sizing: border-box\; list-style: square\; margin: 0.5rem 0px 0.5rem 1.5rem\; padding: 0px 0px 0px 0.25rem\;"><em style="box-sizing: border-box\;">Presented by the Bletz Lab.</em></li><li style="box-sizing: border-box\; list-style: square\; margin: 0.5rem 0px 0.5rem 1.5rem\; padding: 0px 0px 0px 0.25rem\;">Recommended for ages 3 and up.</li><li style="box-sizing: border-box\; list-style: square\; margin: 0.5rem 0px 0.5rem 1.5rem\; padding: 0px 0px 0px 0.25rem\;">Registration suggested.&nbsp\;</li><li style="box-sizing: border-box\; list-style: square\; margin: 0.5rem 0px 0.5rem 1.5rem\; padding: 0px 0px 0px 0.25rem\;">Due to space constraints and large program attendance\, strollers may not be able to fit in all programming spaces. Please plan accordingly.</li></ul></div></div><p><a fr-original-style="box-sizing: border-box\; color: rgb(255\, 255\, 255) !important\; text-decoration: none\; background: rgb(35\, 120\, 181)\; font-size: 17px\; padding: 0.5em 1rem\; display: inline-block\; text-align: center\; border-radius: 2px\; font-weight: bold\; margin: 0.4rem 0px 1rem\; border: 2px solid rgb(35\, 120\, 181)\; font-family: proxima-nova\, sans-serif\; font-style: normal\; font-variant-ligatures: normal\; font-variant-caps: normal\; letter-spacing: normal\; orphans: 2\; text-indent: 0px\; text-transform: none\; widows: 2\; word-spacing: 0px\; -webkit-text-stroke-width: 0px\; white-space: normal\;" href="https://www.schlowlibrary.org/events/4580/registrations/add" style="box-sizing: border-box\; text-decoration: none\; background: rgb(35\, 120\, 181)\; font-size: 17px\; padding: 0.5em 1rem\; display: inline-block\; text-align: center\; border-radius: 2px\; font-weight: bold\; margin: 0.4rem 0px 1rem\; border: 2px solid rgb(35\, 120\, 181)\; font-family: proxima-nova\, sans-serif\; font-style: normal\; font-variant-ligatures: normal\; font-variant-caps: normal\; letter-spacing: normal\; orphans: 2\; text-indent: 0px\; text-transform: none\; widows: 2\; word-spacing: 0px\; -webkit-text-stroke-width: 0px\; white-space: normal\; color: rgb(255\, 255\, 255) !important\; user-select: auto\;">Register</a></p></body></html>
LOCATION:
UID:e.3830.1444024
SEQUENCE:3
DTSTAMP:20260425T142544Z
URL:https://business.cbicc.org/eventcalendarchamberevent/Details/amphibians-at-home-meet-your-hidden-neighbors-may-02-1710303?sourceTypeId=Hub
END:VEVENT
END:VCALENDAR
