BEGIN:VCALENDAR
VERSION:2.0
PRODID:-//ChamberMaster//Event Calendar 2.0//EN
METHOD:PUBLISH
X-PUBLISHED-TTL:P1H
REFRESH-INTERVAL:P1H
CALSCALE:GREGORIAN
BEGIN:VTIMEZONE
TZID:America/New_York
BEGIN:DAYLIGHT
RRULE:FREQ=YEARLY;BYMONTH=3;BYDAY=2SU
DTSTART:20070101T000000
TZOFFSETFROM:-0500
TZOFFSETTO:-0400
TZNAME:Eastern Daylight Time
END:DAYLIGHT
BEGIN:STANDARD
RRULE:FREQ=YEARLY;BYMONTH=11;BYDAY=1SU
DTSTART:20070101T000000
TZOFFSETFROM:-0400
TZOFFSETTO:-0500
TZNAME:Eastern Standard Time
END:STANDARD
END:VTIMEZONE
BEGIN:VEVENT
DTSTART;TZID=America/New_York:20260410T130000
DTEND;TZID=America/New_York:20260410T150000
X-MICROSOFT-CDO-ALLDAYEVENT:FALSE
SUMMARY:Centre Region Disaster Preparedness Workshop
DESCRIPTION:Join the Centre Region Council of Governments and Penn State Dickinson Law for a tabletop exercise on better preparing our community for disaster response. The focus of this event will be on preparing for extended duration of power outages in combination with other risks (heat\, flooding\, snow or ice). FRIDAY APRIL 10\, 2026 Register by 1:00PM Workshop: 1:30-3:30 PM WYNDHAM GARDEN HOTEL 310 ELKS ROAD BOALSBURG\, PA. 16827Contact Lara Fowler LBF10@psu.edu with questions.
X-ALT-DESC;FMTTYPE=text/html:<!DOCTYPE html><html><head><title></title></head><body aria-disabled="false"><p>Join the Centre Region Council of Governments and Penn State Dickinson Law for a tabletop exercise on better preparing our community for disaster response. The focus of this event will be on preparing for extended duration of power outages in combination with other risks (heat\, flooding\, snow or ice).&nbsp\;</p><p>FRIDAY APRIL 10\, 2026&nbsp\;</p><p>Register by 1:00PM&nbsp\;</p><p>Workshop: 1:30-3:30 PM&nbsp\;</p><p>WYNDHAM GARDEN HOTEL&nbsp\;</p><p>310 ELKS ROAD BOALSBURG\, PA. 16827</p><p>Contact Lara Fowler <a fr-original-style="" href="mailto:LBF10@psu.edu" style="user-select: auto\;">LBF10@psu.edu</a> with questions.</p></body></html>
LOCATION:310 Elks Club Rd. Boalsburg PA 16827
UID:e.3830.1436789
SEQUENCE:3
DTSTAMP:20260425T141809Z
URL:https://business.cbicc.org/eventcalendarchamberevent/Details/centre-region-disaster-preparedness-workshop-1700813?sourceTypeId=Hub
END:VEVENT
END:VCALENDAR
