BEGIN:VCALENDAR
VERSION:2.0
PRODID:-//ChamberMaster//Event Calendar 2.0//EN
METHOD:PUBLISH
X-PUBLISHED-TTL:P1H
REFRESH-INTERVAL:P1H
CALSCALE:GREGORIAN
BEGIN:VTIMEZONE
TZID:America/New_York
BEGIN:DAYLIGHT
RRULE:FREQ=YEARLY;BYMONTH=3;BYDAY=2SU
DTSTART:20070101T000000
TZOFFSETFROM:-0500
TZOFFSETTO:-0400
TZNAME:Eastern Daylight Time
END:DAYLIGHT
BEGIN:STANDARD
RRULE:FREQ=YEARLY;BYMONTH=11;BYDAY=1SU
DTSTART:20070101T000000
TZOFFSETFROM:-0400
TZOFFSETTO:-0500
TZNAME:Eastern Standard Time
END:STANDARD
END:VTIMEZONE
BEGIN:VEVENT
DTSTART;TZID=America/New_York:20260503T143000
DTEND;TZID=America/New_York:20260503T153000
X-MICROSOFT-CDO-ALLDAYEVENT:FALSE
SUMMARY:Exploring Our Watershed\, May 03
DESCRIPTION:Join us for an interactive Enviroscape  lesson with ClearWater Conservancy! The Enviroscape  model is a 3D watershed model that provides kids with a fun and interactive demonstration of the sources and effects of water pollution. You will learn how pollutants may enter our environment and move through our watersheds by spraying water and watching it flow!Recommended for grades 1-7.Registration suggested. Due to space constraints and large program attendance\, strollers may not be able to fit in all programming spaces. Please plan accordingly. Please note: the library's website currently is unable to send confirmation emails upon registration. You will receive a reminder email from a Children's Department staff member a few days before the event!Register
X-ALT-DESC;FMTTYPE=text/html:<!DOCTYPE html><html><head><title></title></head><body aria-disabled="false"><div style="box-sizing: border-box\; margin-bottom: 1rem\; width: 682px\; color: rgb(0\, 0\, 0)\; font-family: proxima-nova\, sans-serif\; font-size: 17px\; font-style: normal\; font-variant-ligatures: normal\; font-variant-caps: normal\; font-weight: 400\; letter-spacing: normal\; orphans: 2\; text-align: start\; text-indent: 0px\; text-transform: none\; widows: 2\; word-spacing: 0px\; -webkit-text-stroke-width: 0px\; white-space: normal\; text-decoration-thickness: initial\; text-decoration-style: initial\; text-decoration-color: initial\;"><div style="box-sizing: border-box\;"><p style="box-sizing: border-box\; margin: 0px 0px 1rem\; font-size: 1.0625rem\; line-height: 1.375rem\;">Join us for an interactive Enviroscape&reg\; lesson with ClearWater Conservancy! The Enviroscape&reg\; model is a 3D watershed model that provides kids with a fun and interactive demonstration of the sources and effects of water pollution. You will learn how pollutants may enter our environment and move through our watersheds by spraying water and watching it flow!</p><ul fr-original-style="box-sizing: border-box\; margin: 0px\; padding: 0px\; font-size: 1.0625rem\; line-height: 1.5\; overflow: hidden\;" style="box-sizing: border-box\; margin: 0px\; padding: 0px\; font-size: 1.0625rem\; line-height: 1.5\; overflow: hidden\; list-style-position: inside\;"><li style="box-sizing: border-box\; list-style: square\; margin: 0.5rem 0px 0.5rem 1.5rem\; padding: 0px 0px 0px 0.25rem\;">Recommended for grades 1-7.</li><li style="box-sizing: border-box\; list-style: square\; margin: 0.5rem 0px 0.5rem 1.5rem\; padding: 0px 0px 0px 0.25rem\;">Registration suggested.&nbsp\;</li><li style="box-sizing: border-box\; list-style: square\; margin: 0.5rem 0px 0.5rem 1.5rem\; padding: 0px 0px 0px 0.25rem\;">Due to space constraints and large program attendance\, strollers may not be able to fit in all programming spaces. Please plan accordingly.&nbsp\;</li><li style="box-sizing: border-box\; list-style: square\; margin: 0.5rem 0px 0.5rem 1.5rem\; padding: 0px 0px 0px 0.25rem\;"><strong fr-original-style="box-sizing: border-box\;" style="box-sizing: border-box\; font-weight: 700\;">Please note: the library&#39\;s website currently is unable to send confirmation emails upon registration. You will receive a reminder email from a Children&#39\;s Department staff member a few days before the event!</strong></li></ul></div></div><p><a fr-original-style="box-sizing: border-box\; color: rgb(255\, 255\, 255) !important\; text-decoration: none\; background: rgb(35\, 120\, 181)\; font-size: 17px\; padding: 0.5em 1rem\; display: inline-block\; text-align: center\; border-radius: 2px\; font-weight: bold\; margin: 0.4rem 0px 1rem\; border: 2px solid rgb(35\, 120\, 181)\; font-family: proxima-nova\, sans-serif\; font-style: normal\; font-variant-ligatures: normal\; font-variant-caps: normal\; letter-spacing: normal\; orphans: 2\; text-indent: 0px\; text-transform: none\; widows: 2\; word-spacing: 0px\; -webkit-text-stroke-width: 0px\; white-space: normal\;" href="https://www.schlowlibrary.org/events/4581/registrations/add" style="box-sizing: border-box\; text-decoration: none\; background: rgb(35\, 120\, 181)\; font-size: 17px\; padding: 0.5em 1rem\; display: inline-block\; text-align: center\; border-radius: 2px\; font-weight: bold\; margin: 0.4rem 0px 1rem\; border: 2px solid rgb(35\, 120\, 181)\; font-family: proxima-nova\, sans-serif\; font-style: normal\; font-variant-ligatures: normal\; font-variant-caps: normal\; letter-spacing: normal\; orphans: 2\; text-indent: 0px\; text-transform: none\; widows: 2\; word-spacing: 0px\; -webkit-text-stroke-width: 0px\; white-space: normal\; color: rgb(255\, 255\, 255) !important\; user-select: auto\;">Register</a></p></body></html>
LOCATION:
UID:e.3830.1444023
SEQUENCE:3
DTSTAMP:20260425T141803Z
URL:https://business.cbicc.org/eventcalendarchamberevent/Details/exploring-our-watershed-may-03-1710302?sourceTypeId=Hub
END:VEVENT
END:VCALENDAR
