BEGIN:VCALENDAR
VERSION:2.0
PRODID:-//ChamberMaster//Event Calendar 2.0//EN
METHOD:PUBLISH
X-PUBLISHED-TTL:P1H
REFRESH-INTERVAL:P1H
CALSCALE:GREGORIAN
BEGIN:VTIMEZONE
TZID:America/New_York
BEGIN:DAYLIGHT
RRULE:FREQ=YEARLY;BYMONTH=3;BYDAY=2SU
DTSTART:20070101T000000
TZOFFSETFROM:-0500
TZOFFSETTO:-0400
TZNAME:Eastern Daylight Time
END:DAYLIGHT
BEGIN:STANDARD
RRULE:FREQ=YEARLY;BYMONTH=11;BYDAY=1SU
DTSTART:20070101T000000
TZOFFSETFROM:-0400
TZOFFSETTO:-0500
TZNAME:Eastern Standard Time
END:STANDARD
END:VTIMEZONE
BEGIN:VEVENT
DTSTART;TZID=America/New_York:20260502T093000
DTEND;TZID=America/New_York:20260502T100000
X-MICROSOFT-CDO-ALLDAYEVENT:FALSE
SUMMARY:Saturday Baby Lapsit\, May 02
DESCRIPTION:Sweet stories\, songs\, and lapsit rhymes - a playtime just for baby and grown-up.Recommended for babies up to 14 months old.Registration not required. Due to space constraints and large program attendance\, strollers may not be able to fit in all programming spaces. Please plan accordingly.
X-ALT-DESC;FMTTYPE=text/html:<!DOCTYPE html><html><head><title></title></head><body aria-disabled="false"><p style="box-sizing: border-box\; margin: 0px 0px 1rem\; font-size: 17px\; line-height: 1.375rem\; color: rgb(0\, 0\, 0)\; font-family: proxima-nova\, sans-serif\; font-style: normal\; font-variant-ligatures: normal\; font-variant-caps: normal\; font-weight: 400\; letter-spacing: normal\; orphans: 2\; text-align: start\; text-indent: 0px\; text-transform: none\; widows: 2\; word-spacing: 0px\; -webkit-text-stroke-width: 0px\; white-space: normal\; text-decoration-thickness: initial\; text-decoration-style: initial\; text-decoration-color: initial\;">Sweet stories\, songs\, and lapsit rhymes - a playtime just for baby and grown-up.</p><ul fr-original-style="box-sizing: border-box\; margin: 0px\; padding: 0px\; font-size: 17px\; line-height: 1.5\; overflow: hidden\; color: rgb(0\, 0\, 0)\; font-family: proxima-nova\, sans-serif\; font-style: normal\; font-variant-ligatures: normal\; font-variant-caps: normal\; font-weight: 400\; letter-spacing: normal\; orphans: 2\; text-align: start\; text-indent: 0px\; text-transform: none\; widows: 2\; word-spacing: 0px\; -webkit-text-stroke-width: 0px\; white-space: normal\; text-decoration-thickness: initial\; text-decoration-style: initial\; text-decoration-color: initial\;" style="box-sizing: border-box\; margin: 0px\; padding: 0px\; font-size: 17px\; line-height: 1.5\; overflow: hidden\; color: rgb(0\, 0\, 0)\; font-family: proxima-nova\, sans-serif\; font-style: normal\; font-variant-ligatures: normal\; font-variant-caps: normal\; font-weight: 400\; letter-spacing: normal\; orphans: 2\; text-align: start\; text-indent: 0px\; text-transform: none\; widows: 2\; word-spacing: 0px\; -webkit-text-stroke-width: 0px\; white-space: normal\; text-decoration-thickness: initial\; text-decoration-style: initial\; text-decoration-color: initial\; list-style-position: inside\;"><li style="box-sizing: border-box\; list-style: square\; margin: 0.5rem 0px 0.5rem 1.5rem\; padding: 0px 0px 0px 0.25rem\;">Recommended for babies up to 14 months old.</li><li style="box-sizing: border-box\; list-style: square\; margin: 0.5rem 0px 0.5rem 1.5rem\; padding: 0px 0px 0px 0.25rem\;">Registration not required.&nbsp\;</li><li style="box-sizing: border-box\; list-style: square\; margin: 0.5rem 0px 0.5rem 1.5rem\; padding: 0px 0px 0px 0.25rem\;">Due to space constraints and large program attendance\, strollers may not be able to fit in all programming spaces. Please plan accordingly.</li></ul></body></html>
LOCATION:
UID:e.3830.1444027
SEQUENCE:3
DTSTAMP:20260425T141848Z
URL:https://business.cbicc.org/eventcalendarchamberevent/Details/saturday-baby-lapsit-may-02-1710306?sourceTypeId=Hub
END:VEVENT
END:VCALENDAR
