BEGIN:VCALENDAR
VERSION:2.0
PRODID:-//ChamberMaster//Event Calendar 2.0//EN
METHOD:PUBLISH
X-PUBLISHED-TTL:P1H
REFRESH-INTERVAL:P1H
CALSCALE:GREGORIAN
BEGIN:VTIMEZONE
TZID:America/New_York
BEGIN:DAYLIGHT
RRULE:FREQ=YEARLY;BYMONTH=3;BYDAY=2SU
DTSTART:20070101T000000
TZOFFSETFROM:-0500
TZOFFSETTO:-0400
TZNAME:Eastern Daylight Time
END:DAYLIGHT
BEGIN:STANDARD
RRULE:FREQ=YEARLY;BYMONTH=11;BYDAY=1SU
DTSTART:20070101T000000
TZOFFSETFROM:-0400
TZOFFSETTO:-0500
TZNAME:Eastern Standard Time
END:STANDARD
END:VTIMEZONE
BEGIN:VEVENT
DTSTART;TZID=America/New_York:20260509T093000
DTEND;TZID=America/New_York:20260509T100000
X-MICROSOFT-CDO-ALLDAYEVENT:FALSE
SUMMARY:Saturday Baby Movers\, May 09
DESCRIPTION:Stories\, songs\, and lots of movement - a storytime for babies on the go and their grown-up.Recommended for babies ages 15 to 24 monthsDue to space constraints and large program attendance\, strollers may not be able to fit in all programming spaces. Please plan accordingly.No registration required
X-ALT-DESC;FMTTYPE=text/html:<!DOCTYPE html><html><head><title></title></head><body aria-disabled="false"><div style="box-sizing: border-box\; margin-bottom: 1rem\; width: 682px\; color: rgb(0\, 0\, 0)\; font-family: proxima-nova\, sans-serif\; font-size: 17px\; font-style: normal\; font-variant-ligatures: normal\; font-variant-caps: normal\; font-weight: 400\; letter-spacing: normal\; orphans: 2\; text-align: start\; text-indent: 0px\; text-transform: none\; widows: 2\; word-spacing: 0px\; -webkit-text-stroke-width: 0px\; white-space: normal\; text-decoration-thickness: initial\; text-decoration-style: initial\; text-decoration-color: initial\;"><div style="box-sizing: border-box\;"><p style="box-sizing: border-box\; margin: 0px 0px 1rem\; font-size: 1.0625rem\; line-height: 1.375rem\;">Stories\, songs\, and lots of movement - a storytime for babies on the go and their grown-up.</p><ul fr-original-style="box-sizing: border-box\; margin: 0px\; padding: 0px\; font-size: 1.0625rem\; line-height: 1.5\; overflow: hidden\;" style="box-sizing: border-box\; margin: 0px\; padding: 0px\; font-size: 1.0625rem\; line-height: 1.5\; overflow: hidden\; list-style-position: inside\;"><li style="box-sizing: border-box\; list-style: square\; margin: 0.5rem 0px 0.5rem 1.5rem\; padding: 0px 0px 0px 0.25rem\;">Recommended for babies ages 15 to 24 months</li><li style="box-sizing: border-box\; list-style: square\; margin: 0.5rem 0px 0.5rem 1.5rem\; padding: 0px 0px 0px 0.25rem\;">Due to space constraints and large program attendance\, strollers may not be able to fit in all programming spaces. Please plan accordingly.</li><li style="box-sizing: border-box\; list-style: square\; margin: 0.5rem 0px 0.5rem 1.5rem\; padding: 0px 0px 0px 0.25rem\;">No registration required</li></ul></div></div></body></html>
LOCATION:
UID:e.3830.1444021
SEQUENCE:3
DTSTAMP:20260425T141856Z
URL:https://business.cbicc.org/eventcalendarchamberevent/Details/saturday-baby-movers-may-09-1710298?sourceTypeId=Hub
END:VEVENT
END:VCALENDAR
